BEGIN:VCALENDAR
VERSION:2.0
PRODID:-//The Health Insurance Place - ECPv6.15.20//NONSGML v1.0//EN
CALSCALE:GREGORIAN
METHOD:PUBLISH
X-ORIGINAL-URL:https://thehealthinsuranceplace.com
X-WR-CALDESC:Events for The Health Insurance Place
REFRESH-INTERVAL;VALUE=DURATION:PT1H
X-Robots-Tag:noindex
X-PUBLISHED-TTL:PT1H
BEGIN:VTIMEZONE
TZID:America/Detroit
BEGIN:DAYLIGHT
TZOFFSETFROM:-0500
TZOFFSETTO:-0400
TZNAME:EDT
DTSTART:20250309T070000
END:DAYLIGHT
BEGIN:STANDARD
TZOFFSETFROM:-0400
TZOFFSETTO:-0500
TZNAME:EST
DTSTART:20251102T060000
END:STANDARD
BEGIN:DAYLIGHT
TZOFFSETFROM:-0500
TZOFFSETTO:-0400
TZNAME:EDT
DTSTART:20260308T070000
END:DAYLIGHT
BEGIN:STANDARD
TZOFFSETFROM:-0400
TZOFFSETTO:-0500
TZNAME:EST
DTSTART:20261101T060000
END:STANDARD
BEGIN:DAYLIGHT
TZOFFSETFROM:-0500
TZOFFSETTO:-0400
TZNAME:EDT
DTSTART:20270314T070000
END:DAYLIGHT
BEGIN:STANDARD
TZOFFSETFROM:-0400
TZOFFSETTO:-0500
TZNAME:EST
DTSTART:20271107T060000
END:STANDARD
END:VTIMEZONE
BEGIN:VEVENT
DTSTART;TZID=America/Detroit:20260512T173000
DTEND;TZID=America/Detroit:20260512T173000
DTSTAMP:20260422T175115
CREATED:20260420T163452Z
LAST-MODIFIED:20260420T164600Z
UID:2160-1778607000-1778607000@thehealthinsuranceplace.com
SUMMARY:Retirement 101 - May 12
DESCRIPTION:Learn. Plan. Prepare for Your Future.\nThis event designed to help individuals prepare for the transition into retirement with confidence and clarity. \nFREE EVENT \nRSVPs encouraged. Please call 814-201-2829 or use the form below. \nPlease enable JavaScript in your browser to complete this form.Name *E-Mail *Phone *MessageRSVP Now
URL:https://thehealthinsuranceplace.com/event/retirement-101-may-12/
LOCATION:Real Life Church\, 621 W Pitt Street\, Bedford\, PA\, 15522\, United States
CATEGORIES:Educational
END:VEVENT
END:VCALENDAR